BEGIN:VCALENDAR
VERSION:2.0
PRODID:-//Gartenfreunde Dettingen unter Teck e.V. - ECPv6.15.17//NONSGML v1.0//EN
CALSCALE:GREGORIAN
METHOD:PUBLISH
X-WR-CALNAME:Gartenfreunde Dettingen unter Teck e.V.
X-ORIGINAL-URL:https://www.gartenfreunde-dettingenteck.de
X-WR-CALDESC:Veranstaltungen für Gartenfreunde Dettingen unter Teck e.V.
REFRESH-INTERVAL;VALUE=DURATION:PT1H
X-Robots-Tag:noindex
X-PUBLISHED-TTL:PT1H
BEGIN:VTIMEZONE
TZID:Europe/Berlin
BEGIN:DAYLIGHT
TZOFFSETFROM:+0100
TZOFFSETTO:+0200
TZNAME:CEST
DTSTART:20250330T010000
END:DAYLIGHT
BEGIN:STANDARD
TZOFFSETFROM:+0200
TZOFFSETTO:+0100
TZNAME:CET
DTSTART:20251026T010000
END:STANDARD
BEGIN:DAYLIGHT
TZOFFSETFROM:+0100
TZOFFSETTO:+0200
TZNAME:CEST
DTSTART:20260329T010000
END:DAYLIGHT
BEGIN:STANDARD
TZOFFSETFROM:+0200
TZOFFSETTO:+0100
TZNAME:CET
DTSTART:20261025T010000
END:STANDARD
BEGIN:DAYLIGHT
TZOFFSETFROM:+0100
TZOFFSETTO:+0200
TZNAME:CEST
DTSTART:20270328T010000
END:DAYLIGHT
BEGIN:STANDARD
TZOFFSETFROM:+0200
TZOFFSETTO:+0100
TZNAME:CET
DTSTART:20271031T010000
END:STANDARD
END:VTIMEZONE
BEGIN:VEVENT
DTSTART;TZID=Europe/Berlin:20260307T193000
DTEND;TZID=Europe/Berlin:20260307T201500
DTSTAMP:20260422T121745
CREATED:20260222T114944Z
LAST-MODIFIED:20260222T165156Z
UID:1803-1772911800-1772914500@www.gartenfreunde-dettingenteck.de
SUMMARY:Pächterversammlung
DESCRIPTION:Gasthaus Teckkeller
URL:https://www.gartenfreunde-dettingenteck.de/event/paechterversammlung/
END:VEVENT
BEGIN:VEVENT
DTSTART;TZID=Europe/Berlin:20260307T180000
DTEND;TZID=Europe/Berlin:20260307T191500
DTSTAMP:20260422T121745
CREATED:20260222T114908Z
LAST-MODIFIED:20260222T114908Z
UID:1800-1772906400-1772910900@www.gartenfreunde-dettingenteck.de
SUMMARY:Hauptversammlung
DESCRIPTION:Gasthaus Teckkeller Kirchheim
URL:https://www.gartenfreunde-dettingenteck.de/event/hauptversammlung/
LOCATION:Teckkeller Kirchheim
END:VEVENT
BEGIN:VEVENT
DTSTART;TZID=Europe/Berlin:20260222T080000
DTEND;TZID=Europe/Berlin:20260222T170000
DTSTAMP:20260422T121745
CREATED:20260305T123017Z
LAST-MODIFIED:20260222T115140Z
UID:1805-1771747200-1771779600@www.gartenfreunde-dettingenteck.de
SUMMARY:Rosenschnittkurs
DESCRIPTION:Ab 13:30 führt uns der Referent Manfred Diez in die Schnitttechnik bei Rosen ein. Zu der gemeinsamen Veranstaltung der Gartenfreunde und des OGV Dettingen sind alle Interessierten recht herzlich eingeladen. \n  \nAm Samstag den 07. März findet in der Gartenanlage im Eulengreuth ein Rosenschnittkurs statt.
URL:https://www.gartenfreunde-dettingenteck.de/event/rosenschnittkurs/
END:VEVENT
END:VCALENDAR